BEGIN:VCALENDAR
PRODID:-//Brisbane City Council//NONSGML Events//EN
VERSION:2.0
CALSCALE:GREGORIAN
X-WR-TIMEZONE:Australia/Brisbane
METHOD:PUBLISH
BEGIN:VEVENT
DTSTART:20260425T023000Z
DTEND:20260425T040000Z
DTSTAMP:20260420T073339Z
UID:201513003
LOCATION:Brisbane City Hall, 64 Adelaide Street, Brisbane City
SUMMARY:ANZAC Day tours with the Brisbane Greeters
CATEGORIES:Tours
SEQUENCE:0
STATUS:CONFIRMED
DESCRIPTION:Learn more about Brisbane&#39;s proud Anzac heritage with a Brisbane Greeter as they share their knowledge of this very special day.
X-ALT-DESC;FMTTYPE=text/html:Learn more about Brisbane&#39;s proud Anzac heritage with a Brisbane Greeter as they share their knowledge of this very special day.
TRANSP:TRANSPARENT
END:VEVENT
END:VCALENDAR
