BEGIN:VCALENDAR
PRODID:-//Brisbane City Council//NONSGML Events//EN
VERSION:2.0
CALSCALE:GREGORIAN
X-WR-TIMEZONE:Australia/Brisbane
METHOD:PUBLISH
BEGIN:VEVENT
DTSTART:20260425T020000Z
DTEND:20260425T030000Z
DTSTAMP:20260420T073325Z
UID:201513005
LOCATION:Brisbane City Hall, 64 Adelaide Street, Brisbane City
SUMMARY:ANZAC tours for families with the Brisbane Greeters
CATEGORIES:Tours
SEQUENCE:0
STATUS:CONFIRMED
DESCRIPTION:Join us for this special ANZAC Day discovery trail for families. Learn more about Brisbane&#39;s proud ANZAC heritage with a Brisbane Greeter as they share their knowledge of this very special day.&nbsp;
X-ALT-DESC;FMTTYPE=text/html:Join us for this special ANZAC Day discovery trail for families. Learn more about Brisbane&#39;s proud ANZAC heritage with a Brisbane Greeter as they share their knowledge of this very special day.&nbsp;
TRANSP:TRANSPARENT
END:VEVENT
END:VCALENDAR
