BEGIN:VCALENDAR
PRODID:-//Brisbane City Council//NONSGML Events//EN
VERSION:2.0
CALSCALE:GREGORIAN
X-WR-TIMEZONE:Australia/Brisbane
METHOD:PUBLISH
BEGIN:VEVENT
DTSTART:20260524T040000Z
DTEND:20260524T050000Z
DTSTAMP:20260419T230948Z
UID:201204476
LOCATION:Brisbane Botanic Gardens Mt Coot-tha, 152 Mt Coot-tha Road, Toowong
SUMMARY:Bands in Parks: Mt Coot-tha Open Day
CATEGORIES:Music
SEQUENCE:0
STATUS:CONFIRMED
DESCRIPTION:<strong>Bands in Parks</strong> performs at <strong>Brisbane Botanic Gardens</strong>.<p>Join Sunnybank Brass with the glorious vocals of Izabella Cihajic as they celebrate Open Day in the botanic gardens. Music will feature a sparkling selection of big band favourites blending rich brass sounds with smooth vocals.</p><p>Perfect for all ages, it&rsquo;s an afternoon of melody, fun and community spirit not to be missed.</p>
X-ALT-DESC;FMTTYPE=text/html:<strong>Bands in Parks</strong> performs at <strong>Brisbane Botanic Gardens</strong>.<p>Join Sunnybank Brass with the glorious vocals of Izabella Cihajic as they celebrate Open Day in the botanic gardens. Music will feature a sparkling selection of big band favourites blending rich brass sounds with smooth vocals.</p><p>Perfect for all ages, it&rsquo;s an afternoon of melody, fun and community spirit not to be missed.</p>
TRANSP:TRANSPARENT
END:VEVENT
END:VCALENDAR
