BEGIN:VCALENDAR
PRODID:-//Brisbane City Council//NONSGML Events//EN
VERSION:2.0
CALSCALE:GREGORIAN
X-WR-TIMEZONE:Australia/Brisbane
METHOD:PUBLISH
BEGIN:VEVENT
DTSTART:20260607T040000Z
DTEND:20260607T050000Z
DTSTAMP:20260419T230950Z
UID:201204530
LOCATION:Brisbane City Hall, 64 Adelaide Street, Brisbane City
SUMMARY:Bands in Parks: Once Upon a Symphony
CATEGORIES:Music
SEQUENCE:0
STATUS:CONFIRMED
DESCRIPTION:<strong>Bands in Parks</strong> performs at <strong>Brisbane City Hall</strong>.<p>TLF Creative&rsquo;s Lawchestra invites you to step into a world of magic, myth and magnificent music in the grand surrounds of Brisbane City Hall. From the spellbinding songs of Wicked, to the sweeping romance of Ravel&rsquo;s Pavane for a Dead Princess and the dramatic power of Grieg&rsquo;s Peer Gynt, this enchanting program brings beloved stories to life through our many orchestral instruments. The adventure continues with the haunting beauty of Beethoven&rsquo;s Symphony No. 7 and a thrilling concert suite from Harry Potter and the Goblet of Fire.</p><p>Whether you&rsquo;re drawn to soaring melodies, dark drama or cinematic spectacle, we are sure our concert will be an unforgettable afternoon for audiences of all ages.&nbsp;Make it an afternoon out &ndash; invite family and friends for an afternoon at City Hall.</p><p>The concert is free but if you would like to sit and sip with a glass of wine and cheese plate, or enjoy afternoon tea and scones, then it&#39;s just $12 per person. Bookings can be made by calling the Brisbane City Hall Concierge Desk on&nbsp;0457 068 055.</p>
X-ALT-DESC;FMTTYPE=text/html:<strong>Bands in Parks</strong> performs at <strong>Brisbane City Hall</strong>.<p>TLF Creative&rsquo;s Lawchestra invites you to step into a world of magic, myth and magnificent music in the grand surrounds of Brisbane City Hall. From the spellbinding songs of Wicked, to the sweeping romance of Ravel&rsquo;s Pavane for a Dead Princess and the dramatic power of Grieg&rsquo;s Peer Gynt, this enchanting program brings beloved stories to life through our many orchestral instruments. The adventure continues with the haunting beauty of Beethoven&rsquo;s Symphony No. 7 and a thrilling concert suite from Harry Potter and the Goblet of Fire.</p><p>Whether you&rsquo;re drawn to soaring melodies, dark drama or cinematic spectacle, we are sure our concert will be an unforgettable afternoon for audiences of all ages.&nbsp;Make it an afternoon out &ndash; invite family and friends for an afternoon at City Hall.</p><p>The concert is free but if you would like to sit and sip with a glass of wine and cheese plate, or enjoy afternoon tea and scones, then it&#39;s just $12 per person. Bookings can be made by calling the Brisbane City Hall Concierge Desk on&nbsp;0457 068 055.</p>
TRANSP:TRANSPARENT
END:VEVENT
END:VCALENDAR
