BEGIN:VCALENDAR
PRODID:-//Brisbane City Council//NONSGML Events//EN
VERSION:2.0
CALSCALE:GREGORIAN
X-WR-TIMEZONE:Australia/Brisbane
METHOD:PUBLISH
BEGIN:VEVENT
DTSTART:20260712T030000Z
DTEND:20260712T040000Z
DTSTAMP:20260419T230950Z
UID:201207570
LOCATION:Oriel Park, 14 Alexandra Road, Ascot
SUMMARY:Bands in Parks: Please Stand Up
CATEGORIES:Music
SEQUENCE:0
STATUS:CONFIRMED
DESCRIPTION:<strong>Bands in Parks</strong> performs at <strong>Oriel Park</strong>.<p>BSB Swing invites you to join them in celebrating their musicians. From swing to latin, pop to funk, the band will get your toes tapping as they invite some of their soloists to Please Stand Up and be featured.</p><p>From the mellow trombones in Holliday&#39;s &#39;God Bless the Child&#39; to the bopping keys of Simone&#39;s &#39;My Baby Just Cares for Me&#39;, the tom-tom drum grooves of big band swing and sweeping vocal lines, you&#39;re in for an afternoon of great Big Band tunes.</p>
X-ALT-DESC;FMTTYPE=text/html:<strong>Bands in Parks</strong> performs at <strong>Oriel Park</strong>.<p>BSB Swing invites you to join them in celebrating their musicians. From swing to latin, pop to funk, the band will get your toes tapping as they invite some of their soloists to Please Stand Up and be featured.</p><p>From the mellow trombones in Holliday&#39;s &#39;God Bless the Child&#39; to the bopping keys of Simone&#39;s &#39;My Baby Just Cares for Me&#39;, the tom-tom drum grooves of big band swing and sweeping vocal lines, you&#39;re in for an afternoon of great Big Band tunes.</p>
TRANSP:TRANSPARENT
END:VEVENT
END:VCALENDAR
