BEGIN:VCALENDAR
PRODID:-//Brisbane City Council//NONSGML Events//EN
VERSION:2.0
CALSCALE:GREGORIAN
X-WR-TIMEZONE:Australia/Brisbane
METHOD:PUBLISH
BEGIN:VEVENT
DTSTART:20260623T231500Z
DTEND:20260624T001500Z
DTSTAMP:20260422T073356Z
UID:201681009
LOCATION:Twilight Street Park, 103 Sunset Road, Kenmore
SUMMARY:Bollywood fitness
CATEGORIES:Active and healthy events, Fitness & well-being, Free
SEQUENCE:0
STATUS:CONFIRMED
DESCRIPTION:<p>Bollywood-inspired dance fitness class suitable for all abilities, where we laugh, move and have fun with simple, enjoyable dance steps.<p>This is a GOLD event suitable for seniors.
X-ALT-DESC;FMTTYPE=text/html:<p>Bollywood-inspired dance fitness class suitable for all abilities, where we laugh, move and have fun with simple, enjoyable dance steps.<p>This is a GOLD event suitable for seniors.
TRANSP:TRANSPARENT
END:VEVENT
END:VCALENDAR
