BEGIN:VCALENDAR
PRODID:-//Brisbane City Council//NONSGML Events//EN
VERSION:2.0
CALSCALE:GREGORIAN
X-WR-TIMEZONE:Australia/Brisbane
METHOD:PUBLISH
BEGIN:VEVENT
DTSTART:20260610T003000Z
DTEND:20260610T020000Z
DTSTAMP:20260421T040636Z
UID:194916372
LOCATION:Indooroopilly Library, Indooroopilly Shopping Centre, Level 4 (next to Event Cinemas), 322 Moggill Road, Indooroopilly
SUMMARY:Brain training
CATEGORIES:Library event
SEQUENCE:0
STATUS:CONFIRMED
DESCRIPTION:Explore brain training in an easy, social and fun way. Use a range of technologies, games and quizzes that will really get you thinking.
X-ALT-DESC;FMTTYPE=text/html:Explore brain training in an easy, social and fun way. Use a range of technologies, games and quizzes that will really get you thinking.
TRANSP:TRANSPARENT
END:VEVENT
END:VCALENDAR
