BEGIN:VCALENDAR
PRODID:-//Brisbane City Council//NONSGML Events//EN
VERSION:2.0
CALSCALE:GREGORIAN
X-WR-TIMEZONE:Australia/Brisbane
METHOD:PUBLISH
BEGIN:VEVENT
DTSTART:20260428T031500Z
DTEND:20260428T040000Z
DTSTAMP:20260421T221328Z
UID:201590790
LOCATION:Brisbane City Hall, 64 Adelaide Street, Brisbane
SUMMARY:Brisbane City Hall organ recital - Andrej Kouznetsov
CATEGORIES:Music
SEQUENCE:0
STATUS:CONFIRMED
DESCRIPTION:<p>Andrej Kouznetsov studied at the Sydney Conservatorium of Music with Philip Swanton. While a student there he won several awards, including that of first place in the open section of the Sydney Organ Competition. During this time, he was Organ Scholar at the University of Sydney, and at St James&#39;, King Street, where he was subsequently appointed Organist.</p><p>Andrej is currently Assistant Director of Music at St John&rsquo;s Cathedral, Brisbane, where he plays the organ for Cathedral services, assists with the training of the boy choristers, and directs the Girls&rsquo; Choir.</p>
X-ALT-DESC;FMTTYPE=text/html:<p>Andrej Kouznetsov studied at the Sydney Conservatorium of Music with Philip Swanton. While a student there he won several awards, including that of first place in the open section of the Sydney Organ Competition. During this time, he was Organ Scholar at the University of Sydney, and at St James&#39;, King Street, where he was subsequently appointed Organist.</p><p>Andrej is currently Assistant Director of Music at St John&rsquo;s Cathedral, Brisbane, where he plays the organ for Cathedral services, assists with the training of the boy choristers, and directs the Girls&rsquo; Choir.</p>
TRANSP:TRANSPARENT
END:VEVENT
END:VCALENDAR
