BEGIN:VCALENDAR
PRODID:-//Brisbane City Council//NONSGML Events//EN
VERSION:2.0
CALSCALE:GREGORIAN
X-WR-TIMEZONE:Australia/Brisbane
METHOD:PUBLISH
BEGIN:VEVENT
DTSTART:20260513T220000Z
DTEND:20260514T040000Z
DTSTAMP:20260420T041105Z
UID:201182670
LOCATION:Cathedral Square, 410 Ann Street, Brisbane City
SUMMARY:Brisbane City Markets - Cathedral Square
CATEGORIES:Markets
SEQUENCE:0
STATUS:CONFIRMED
DESCRIPTION:<p>Come and enjoy the Cathedral Square city markets, every Thursday.<p>We may be smaller in size, but don&rsquo;t think for a minute that Cathedral Square doesn&rsquo;t pack a punch.<p>With a bigger focus on street eats, this picturesque market is the perfect place for a quick or leisurely lunch (although, we definitely recommend the latter&hellip; hello picnic blankets and live music!<p>For more information, visit the <a href="http://goodwillprojects.com.au/markets/brisbane-city/" target="_blank">Goodwill Projects website</a>.&nbsp;
X-ALT-DESC;FMTTYPE=text/html:<p>Come and enjoy the Cathedral Square city markets, every Thursday.<p>We may be smaller in size, but don&rsquo;t think for a minute that Cathedral Square doesn&rsquo;t pack a punch.<p>With a bigger focus on street eats, this picturesque market is the perfect place for a quick or leisurely lunch (although, we definitely recommend the latter&hellip; hello picnic blankets and live music!<p>For more information, visit the <a href="http://goodwillprojects.com.au/markets/brisbane-city/" target="_blank">Goodwill Projects website</a>.&nbsp;
TRANSP:TRANSPARENT
END:VEVENT
END:VCALENDAR
