BEGIN:VCALENDAR
PRODID:-//Brisbane City Council//NONSGML Events//EN
VERSION:2.0
CALSCALE:GREGORIAN
X-WR-TIMEZONE:Australia/Brisbane
METHOD:PUBLISH
BEGIN:VEVENT
DTSTART:20260512T220000Z
DTEND:20260513T080000Z
DTSTAMP:20260420T041105Z
UID:201182634
LOCATION:Queen Street Mall, Queen Street, Brisbane City
SUMMARY:Brisbane City Markets
CATEGORIES:Markets
SEQUENCE:0
STATUS:CONFIRMED
DESCRIPTION:<p>Come and enjoy the city markets in&nbsp; Reddacliff Place at the top of Queen Street Mall which remains a favourite for city workers, local residents and tourists alike.</p><p>You&rsquo;ll never be short for choice &ndash; whether it be delicious&nbsp;market eats, the freshest of farm direct goods, hand made provisions, gifts or more.</p><p>Visit the <a href="http://goodwillprojects.com.au/markets/brisbane-city/" target="_blank">Goodwill Projects website</a> for more information.</p>
X-ALT-DESC;FMTTYPE=text/html:<p>Come and enjoy the city markets in&nbsp; Reddacliff Place at the top of Queen Street Mall which remains a favourite for city workers, local residents and tourists alike.</p><p>You&rsquo;ll never be short for choice &ndash; whether it be delicious&nbsp;market eats, the freshest of farm direct goods, hand made provisions, gifts or more.</p><p>Visit the <a href="http://goodwillprojects.com.au/markets/brisbane-city/" target="_blank">Goodwill Projects website</a> for more information.</p>
TRANSP:TRANSPARENT
END:VEVENT
END:VCALENDAR
