BEGIN:VCALENDAR
PRODID:-//Brisbane City Council//NONSGML Events//EN
VERSION:2.0
CALSCALE:GREGORIAN
X-WR-TIMEZONE:Australia/Brisbane
METHOD:PUBLISH
BEGIN:VEVENT
DTSTART:20260823T000000Z
DTEND:20260823T050000Z
DTSTAMP:20260423T073116Z
UID:201267926
LOCATION:Minnippi Parklands, Stanton Road, Tingalpa
SUMMARY:Brisbane Kite Festival
CATEGORIES:Family events
SEQUENCE:0
STATUS:CONFIRMED
DESCRIPTION:A wonderful free family event full of fun for all ages, from toddlers and preschoolers to teens and young and older adults. Bring your own kite or choose one from the wide variety on sale.<p>Food trucks, a sausage sizzle, children&#39;s rides, face painting and other fun activities promise a lovely day in the winter sun.</p><p>This event is organised by the Rotary Clubs of Brisbane South-East and Carindale and proudly supported by Brisbane City Council.&nbsp;For more information please visit <a href="https://www.facebook.com/bnekitefestival" target="_blank">Brisbane Kite Festival Facebook</a>.</p>
X-ALT-DESC;FMTTYPE=text/html:A wonderful free family event full of fun for all ages, from toddlers and preschoolers to teens and young and older adults. Bring your own kite or choose one from the wide variety on sale.<p>Food trucks, a sausage sizzle, children&#39;s rides, face painting and other fun activities promise a lovely day in the winter sun.</p><p>This event is organised by the Rotary Clubs of Brisbane South-East and Carindale and proudly supported by Brisbane City Council.&nbsp;For more information please visit <a href="https://www.facebook.com/bnekitefestival" target="_blank">Brisbane Kite Festival Facebook</a>.</p>
TRANSP:TRANSPARENT
END:VEVENT
END:VCALENDAR
