BEGIN:VCALENDAR
PRODID:-//Brisbane City Council//NONSGML Events//EN
VERSION:2.0
CALSCALE:GREGORIAN
X-WR-TIMEZONE:Australia/Brisbane
METHOD:PUBLISH
BEGIN:VEVENT
DTSTART:20260508T120000Z
DTEND:20260508T140000Z
DTSTAMP:20260420T041144Z
UID:201185810
LOCATION:Brunswick Street Mall, Brunswick Street, Fortitude Valley
SUMMARY:BritPop at PigNWhistle
CATEGORIES:Music
SEQUENCE:0
STATUS:CONFIRMED
DESCRIPTION:<p>When Brunswick Street Live ends, the night continues at <a href="https://pignwhistle.com.au/brunswick-street" target="_blank">PigNWhistle</a>&nbsp;for classic British hits we all know and love!</p><p>Free entry before 10pm.</p><p>Presented as part of the <a href="https://myvalley.com.au/brunswick-street-live" target="_blank">Brunswick Street Live </a>program and independently funded.&nbsp;</p>
X-ALT-DESC;FMTTYPE=text/html:<p>When Brunswick Street Live ends, the night continues at <a href="https://pignwhistle.com.au/brunswick-street" target="_blank">PigNWhistle</a>&nbsp;for classic British hits we all know and love!</p><p>Free entry before 10pm.</p><p>Presented as part of the <a href="https://myvalley.com.au/brunswick-street-live" target="_blank">Brunswick Street Live </a>program and independently funded.&nbsp;</p>
TRANSP:TRANSPARENT
END:VEVENT
END:VCALENDAR
