BEGIN:VCALENDAR
PRODID:-//Brisbane City Council//NONSGML Events//EN
VERSION:2.0
CALSCALE:GREGORIAN
X-WR-TIMEZONE:Australia/Brisbane
METHOD:PUBLISH
BEGIN:VEVENT
DTSTART:20260515T230000Z
DTEND:20260516T020000Z
DTSTAMP:20260423T231529Z
UID:201821934
LOCATION:
SUMMARY:Bushfire information pop-up - Brookfield
CATEGORIES:Workshops
SEQUENCE:0
STATUS:CONFIRMED
DESCRIPTION:<p>Join Brisbane City Council, Healthy Land &amp; Water and the Rural Fire Service QLD for a pop-up information session ahead of Bushfire season.</p><p>Chat to experts from Council&#39;s Planned Burns and Disaster Preparedness and Education teams along with the Fire Ecology &amp; Preparedness Team from Healthy Land &amp; Water.</p><p>Learn how taking a few simple steps now can make a big difference during bushfires. Find out your bushfire risk, how to prepare your property, make an emergency plan, what to pack in an emergency kit and where to find trusted updates.</p><p>Healthy Land &amp; Water&rsquo;s Fire Ecology and Preparedness team will be hosting two guided Walk and Talk sessions exploring the important role fire plays in shaping Australian landscapes.</p><p>Led by specialists, the walks will cover how native plants and animals have adapted to fire over millennia, and how vegetation traits and fuel structure influence fire behaviour in our local environment.</p><p>It&#39;s a great opportunity to learn, ask questions, and connect with your community. Bring along the kids for the opportunity to check out the Rural Fire trucks up close.</p><p><strong>Venue</strong>:&nbsp;<a href="https://maps.app.goo.gl/eU8P2FekwfZ6X3v46" target="_blank">Brookfield Rural Fire Brigade, 540 Brookfield Road, Brookfield</a></p><p>There will be parking provided next to the Rural Fire Brigade at Brookfield State School.</p><p>This is a free community event and no registration is required.</p>
X-ALT-DESC;FMTTYPE=text/html:<p>Join Brisbane City Council, Healthy Land &amp; Water and the Rural Fire Service QLD for a pop-up information session ahead of Bushfire season.</p><p>Chat to experts from Council&#39;s Planned Burns and Disaster Preparedness and Education teams along with the Fire Ecology &amp; Preparedness Team from Healthy Land &amp; Water.</p><p>Learn how taking a few simple steps now can make a big difference during bushfires. Find out your bushfire risk, how to prepare your property, make an emergency plan, what to pack in an emergency kit and where to find trusted updates.</p><p>Healthy Land &amp; Water&rsquo;s Fire Ecology and Preparedness team will be hosting two guided Walk and Talk sessions exploring the important role fire plays in shaping Australian landscapes.</p><p>Led by specialists, the walks will cover how native plants and animals have adapted to fire over millennia, and how vegetation traits and fuel structure influence fire behaviour in our local environment.</p><p>It&#39;s a great opportunity to learn, ask questions, and connect with your community. Bring along the kids for the opportunity to check out the Rural Fire trucks up close.</p><p><strong>Venue</strong>:&nbsp;<a href="https://maps.app.goo.gl/eU8P2FekwfZ6X3v46" target="_blank">Brookfield Rural Fire Brigade, 540 Brookfield Road, Brookfield</a></p><p>There will be parking provided next to the Rural Fire Brigade at Brookfield State School.</p><p>This is a free community event and no registration is required.</p>
TRANSP:TRANSPARENT
END:VEVENT
END:VCALENDAR
