BEGIN:VCALENDAR
PRODID:-//Brisbane City Council//NONSGML Events//EN
VERSION:2.0
CALSCALE:GREGORIAN
X-WR-TIMEZONE:Australia/Brisbane
METHOD:PUBLISH
BEGIN:VEVENT
DTSTART:20260706T010000Z
DTEND:20260706T014500Z
DTSTAMP:20260421T063610Z
UID:201590603
LOCATION:Indooroopilly Library, Indooroopilly Shopping Centre, Level 4 (next to Event Cinemas), 322 Moggill Road, Indooroopilly
SUMMARY:BYOB (Bring your own baby book club)
CATEGORIES:Free, Library events
SEQUENCE:0
STATUS:CONFIRMED
DESCRIPTION:<p>BYOB book club is a baby-friendly book club for parents and caregivers who are interested in joining a book club without having to organise a babysitter. Join in to discuss great books in good company. Contact the library for more information.</p>
X-ALT-DESC;FMTTYPE=text/html:<p>BYOB book club is a baby-friendly book club for parents and caregivers who are interested in joining a book club without having to organise a babysitter. Join in to discuss great books in good company. Contact the library for more information.</p>
TRANSP:TRANSPARENT
END:VEVENT
END:VCALENDAR
