BEGIN:VCALENDAR
PRODID:-//Brisbane City Council//NONSGML Events//EN
VERSION:2.0
CALSCALE:GREGORIAN
X-WR-TIMEZONE:Australia/Brisbane
METHOD:PUBLISH
BEGIN:VEVENT
DTSTART:20260423T233000Z
DTEND:20260424T003000Z
DTSTAMP:20260424T013206Z
UID:183286673
LOCATION:Oriel Park, 14 Alexandra Road, Ascot
SUMMARY:CANCELLED: Pilates
CATEGORIES:Active and healthy events, Fitness & well-being, Free
SEQUENCE:0
STATUS:CANCELLED
DESCRIPTION:&nbsp;***This event has been cancelled*** Pilates helps you strengthen and stretch simultaneously through core-based exercises. Join anytime.
X-ALT-DESC;FMTTYPE=text/html:&nbsp;***This event has been cancelled*** Pilates helps you strengthen and stretch simultaneously through core-based exercises. Join anytime.
TRANSP:TRANSPARENT
END:VEVENT
END:VCALENDAR
