BEGIN:VCALENDAR
PRODID:-//Brisbane City Council//NONSGML Events//EN
VERSION:2.0
CALSCALE:GREGORIAN
X-WR-TIMEZONE:Australia/Brisbane
METHOD:PUBLISH
BEGIN:VEVENT
DTSTART:20260424T223000Z
DTEND:20260424T233000Z
DTSTAMP:20260423T013230Z
UID:194638670
LOCATION:D.M. Henderson Park, 434 McCullough Street, Macgregor
SUMMARY:CANCELLED: Zumba Gold®
CATEGORIES:Active and healthy events, Fitness & well-being, Free
SEQUENCE:0
STATUS:CANCELLED
DESCRIPTION:***This event has been cancelled*** Enjoy a low-impact, moderate-intensity workout in a welcoming and supportive atmosphere. Have fun shaking it at your own pace to zesty Latin tunes, Indian-infused rhythms, plus other music from around the world. This class can help you improve your balance, range of
X-ALT-DESC;FMTTYPE=text/html:***This event has been cancelled*** Enjoy a low-impact, moderate-intensity workout in a welcoming and supportive atmosphere. Have fun shaking it at your own pace to zesty Latin tunes, Indian-infused rhythms, plus other music from around the world. This class can help you improve your balance, range of
TRANSP:TRANSPARENT
END:VEVENT
END:VCALENDAR
