BEGIN:VCALENDAR
PRODID:-//Brisbane City Council//NONSGML Events//EN
VERSION:2.0
CALSCALE:GREGORIAN
X-WR-TIMEZONE:Australia/Brisbane
METHOD:PUBLISH
BEGIN:VEVENT
DTSTART:20260710T053000Z
DTEND:20260710T063000Z
DTSTAMP:20260423T040651Z
UID:201756256
LOCATION:Banyo Library, 284 St Vincents Road, Banyo
SUMMARY:Chess club
CATEGORIES:Library event
SEQUENCE:0
STATUS:CONFIRMED
DESCRIPTION:Join in the school holiday fun at your local library!Play chess in a fun and friendly atmosphere. Practice against others of similar ages or seek tougher challenges. Ideal for children of all ages.
X-ALT-DESC;FMTTYPE=text/html:Join in the school holiday fun at your local library!<br/>Play chess in a fun and friendly atmosphere. Practice against others of similar ages or seek tougher challenges. Ideal for children of all ages.
TRANSP:TRANSPARENT
END:VEVENT
END:VCALENDAR
