BEGIN:VCALENDAR
PRODID:-//Brisbane City Council//NONSGML Events//EN
VERSION:2.0
CALSCALE:GREGORIAN
X-WR-TIMEZONE:Australia/Brisbane
METHOD:PUBLISH
BEGIN:VEVENT
DTSTART:20260725T010000Z
DTEND:20260725T020000Z
DTSTAMP:20260423T040659Z
UID:201759455
LOCATION:Wynnum Library, 145 Florence Street, Wynnum
SUMMARY:Classics book club
CATEGORIES:Library event
SEQUENCE:0
STATUS:CONFIRMED
DESCRIPTION:Join us for an engaging journey through literature&#39;s enduring masterpieces. This month&rsquo;s book is <em>1984 </em>by George Orwell.
X-ALT-DESC;FMTTYPE=text/html:Join us for an engaging journey through literature&#39;s enduring masterpieces. This month&rsquo;s book is <em>1984 </em>by George Orwell.
TRANSP:TRANSPARENT
END:VEVENT
END:VCALENDAR
