BEGIN:VCALENDAR
PRODID:-//Brisbane City Council//NONSGML Events//EN
VERSION:2.0
CALSCALE:GREGORIAN
X-WR-TIMEZONE:Australia/Brisbane
METHOD:PUBLISH
BEGIN:VEVENT
DTSTART:20260530T220000Z
DTEND:20260531T020000Z
DTSTAMP:20260423T063334Z
UID:201577202
LOCATION:Wendon Way Park, 70 Darien Street, Bridgeman Downs
SUMMARY:Community planting event - Wendon Way Park
CATEGORIES:Green
SEQUENCE:0
STATUS:CONFIRMED
DESCRIPTION:<p>Community planting day at Wendon Way Park. Help restore valuable platypus habitat.&nbsp;2,000 native plants ready to plant.</p><p>There will be free food and coffee, a willdlife show and kids&#39; activities.</p><p>All tools provided. Please bring your own gardening gloves. Wear enclosed shoes and sun-safe clothing/hat and bring a water bottle.</p><p>Parking is on the street, as well as at Darien Street Park.</p>
X-ALT-DESC;FMTTYPE=text/html:<p>Community planting day at Wendon Way Park. Help restore valuable platypus habitat.&nbsp;2,000 native plants ready to plant.</p><p>There will be free food and coffee, a willdlife show and kids&#39; activities.</p><p>All tools provided. Please bring your own gardening gloves. Wear enclosed shoes and sun-safe clothing/hat and bring a water bottle.</p><p>Parking is on the street, as well as at Darien Street Park.</p>
TRANSP:TRANSPARENT
END:VEVENT
END:VCALENDAR
