BEGIN:VCALENDAR
PRODID:-//Brisbane City Council//NONSGML Events//EN
VERSION:2.0
CALSCALE:GREGORIAN
X-WR-TIMEZONE:Australia/Brisbane
METHOD:PUBLISH
BEGIN:VEVENT
DTSTART:20260603T030000Z
DTEND:20260603T043000Z
DTSTAMP:20260421T083424Z
UID:194916216
LOCATION:Mt Ommaney Library, Mt Ommaney Shopping Centre, 171 Dandenong Road, Mt Ommaney
SUMMARY:Crime and mystery book club
CATEGORIES:Library event
SEQUENCE:0
STATUS:CONFIRMED
DESCRIPTION:New members welcome.&nbsp;
X-ALT-DESC;FMTTYPE=text/html:New members welcome.&nbsp;
TRANSP:TRANSPARENT
END:VEVENT
END:VCALENDAR
