BEGIN:VCALENDAR
PRODID:-//Brisbane City Council//NONSGML Events//EN
VERSION:2.0
CALSCALE:GREGORIAN
X-WR-TIMEZONE:Australia/Brisbane
METHOD:PUBLISH
BEGIN:VEVENT
DTSTART:20260701T030000Z
DTEND:20260701T043000Z
DTSTAMP:20260421T040635Z
UID:198153779
LOCATION:Mt Ommaney Library, Mt Ommaney Shopping Centre, 171 Dandenong Road, Mt Ommaney
SUMMARY:Crime and mystery book club
CATEGORIES:Library event
SEQUENCE:0
STATUS:CONFIRMED
DESCRIPTION:New members welcome.&nbsp;
X-ALT-DESC;FMTTYPE=text/html:New members welcome.&nbsp;
TRANSP:TRANSPARENT
END:VEVENT
END:VCALENDAR
