BEGIN:VCALENDAR
PRODID:-//Brisbane City Council//NONSGML Events//EN
VERSION:2.0
CALSCALE:GREGORIAN
X-WR-TIMEZONE:Australia/Brisbane
METHOD:PUBLISH
BEGIN:VEVENT
DTSTART:20260508T110000Z
DTEND:20260508T190000Z
DTSTAMP:20260420T041138Z
UID:201100039
LOCATION:Brunswick Street Mall, Brunswick Street, Fortitude Valley
SUMMARY:DJ Zain at RG's
CATEGORIES:Music
SEQUENCE:0
STATUS:CONFIRMED
DESCRIPTION:<p>Join us to enjoy DJ Zain at the BrisVegas Lounge in&nbsp;<a href="https://royalgeorgehotel.com.au/" target="_blank">RG&#39;s </a>in Brunswick Street Mall.<p>DJ Zain is a resident performer, commonly playing sets alongside DJ Sxvage from 9 pm to 5 am. Known for spinning &quot;bangers&quot; and high-energy tracks!<p>Presented as part of the <a href="https://myvalley.com.au/brunswick-street-live" target="_blank">Brunswick Street Live</a> program and independently funded.&nbsp;
X-ALT-DESC;FMTTYPE=text/html:<p>Join us to enjoy DJ Zain at the BrisVegas Lounge in&nbsp;<a href="https://royalgeorgehotel.com.au/" target="_blank">RG&#39;s </a>in Brunswick Street Mall.<p>DJ Zain is a resident performer, commonly playing sets alongside DJ Sxvage from 9 pm to 5 am. Known for spinning &quot;bangers&quot; and high-energy tracks!<p>Presented as part of the <a href="https://myvalley.com.au/brunswick-street-live" target="_blank">Brunswick Street Live</a> program and independently funded.&nbsp;
TRANSP:TRANSPARENT
END:VEVENT
END:VCALENDAR
