BEGIN:VCALENDAR
PRODID:-//Brisbane City Council//NONSGML Events//EN
VERSION:2.0
CALSCALE:GREGORIAN
X-WR-TIMEZONE:Australia/Brisbane
METHOD:PUBLISH
BEGIN:VEVENT
DTSTART:20260508T073000Z
DTEND:20260508T113000Z
DTSTAMP:20260420T041139Z
UID:201087292
LOCATION:Brunswick Street Mall, Brunswick Street, Fortitude Valley
SUMMARY:Ella Hartwig at RG's
CATEGORIES:Music
SEQUENCE:0
STATUS:CONFIRMED
DESCRIPTION:<p>Join us to enjoy Ella Hartwig at <a href="https://royalgeorgehotel.com.au/" target="_blank">RG&#39;s</a>&nbsp;in Brunswick Street Mall.</p><p><strong>From Country Nights to City Lights</strong></p><p>From remote Cape York to festival stages across Australia, Ella Hartwig is making her mark in the country/folk scene. Songs she wrote at just thirteen later earned her Queensland Music Award nominations, setting the tone for her debut album Take Me South. The exclusive physical-only debut sold out on her National Tour and is now available digitally due to high demand. The deluxe digital album now includes a brand-new fan-inspired song written from online comments.</p><p>A graduate of the Australian Academy of Country Music and finalist in Brisbane City Council&rsquo;s QUBE Effect, Ella has performed on major stages, including Savannah in the Round 2025, and her breakout single on finding herself, Western Star, continues to resonate nationwide.</p><p>Ella first emerged onto the Australian folk festival scene at age fourteen, and has since completed her debut self-managed tour down the East Coast of Queensland.</p><p>Presented as part of the <a href="https://myvalley.com.au/brunswick-street-live" target="_blank">Brunswick Street Live</a> program and independently funded.</p>
X-ALT-DESC;FMTTYPE=text/html:<p>Join us to enjoy Ella Hartwig at <a href="https://royalgeorgehotel.com.au/" target="_blank">RG&#39;s</a>&nbsp;in Brunswick Street Mall.</p><p><strong>From Country Nights to City Lights</strong></p><p>From remote Cape York to festival stages across Australia, Ella Hartwig is making her mark in the country/folk scene. Songs she wrote at just thirteen later earned her Queensland Music Award nominations, setting the tone for her debut album Take Me South. The exclusive physical-only debut sold out on her National Tour and is now available digitally due to high demand. The deluxe digital album now includes a brand-new fan-inspired song written from online comments.</p><p>A graduate of the Australian Academy of Country Music and finalist in Brisbane City Council&rsquo;s QUBE Effect, Ella has performed on major stages, including Savannah in the Round 2025, and her breakout single on finding herself, Western Star, continues to resonate nationwide.</p><p>Ella first emerged onto the Australian folk festival scene at age fourteen, and has since completed her debut self-managed tour down the East Coast of Queensland.</p><p>Presented as part of the <a href="https://myvalley.com.au/brunswick-street-live" target="_blank">Brunswick Street Live</a> program and independently funded.</p>
TRANSP:TRANSPARENT
END:VEVENT
END:VCALENDAR
