BEGIN:VCALENDAR
PRODID:-//Brisbane City Council//NONSGML Events//EN
VERSION:2.0
CALSCALE:GREGORIAN
X-WR-TIMEZONE:Australia/Brisbane
METHOD:PUBLISH
BEGIN:VEVENT
DTSTART:20260724T053000Z
DTEND:20260724T061500Z
DTSTAMP:20260423T040652Z
UID:201756260
LOCATION:Banyo Library, 284 St Vincents Road, Banyo
SUMMARY:Family STEAM
CATEGORIES:Library event
SEQUENCE:0
STATUS:CONFIRMED
DESCRIPTION:Bring your friends and family for fun games and activities exploring emergent technologies, robotics, coding, science, communications and art. Ideal for children of all ages and their families.A BNEtechkids workshop.&nbsp;
X-ALT-DESC;FMTTYPE=text/html:Bring your friends and family for fun games and activities exploring emergent technologies, robotics, coding, science, communications and art. Ideal for children of all ages and their families.<br/><br/>A BNEtechkids workshop.&nbsp;
TRANSP:TRANSPARENT
END:VEVENT
END:VCALENDAR
