BEGIN:VCALENDAR
PRODID:-//Brisbane City Council//NONSGML Events//EN
VERSION:2.0
CALSCALE:GREGORIAN
X-WR-TIMEZONE:Australia/Brisbane
METHOD:PUBLISH
BEGIN:VEVENT
DTSTART:20260707T003000Z
DTEND:20260707T013000Z
DTSTAMP:20260423T030005Z
UID:198142758
LOCATION:Zillmere Library, Corner Jennings Street and Zillmere Road, Zillmere
SUMMARY:First 5 Forever chatter play
CATEGORIES:Library event
SEQUENCE:0
STATUS:CONFIRMED
DESCRIPTION:<p>This is a fun, play-based session offering a range of creative resources for children that support language and literacy development. Ideal for children aged 5 years and younger.<em>First 5 Forever is an initiative of the Queensland Government, coordinated by State Library of Queensland and delivered in partnership with local government.</em></p>
X-ALT-DESC;FMTTYPE=text/html:<p>This is a fun, play-based session offering a range of creative resources for children that support language and literacy development. Ideal for children aged 5 years and younger.<br/><br/><em>First 5 Forever is an initiative of the Queensland Government, coordinated by State Library of Queensland and delivered in partnership with local government.</em></p>
TRANSP:TRANSPARENT
END:VEVENT
END:VCALENDAR
