BEGIN:VCALENDAR
PRODID:-//Brisbane City Council//NONSGML Events//EN
VERSION:2.0
CALSCALE:GREGORIAN
X-WR-TIMEZONE:Australia/Brisbane
METHOD:PUBLISH
BEGIN:VEVENT
DTSTART:20260519T233000Z
DTEND:20260520T000000Z
DTSTAMP:20260421T013251Z
UID:201580566
LOCATION:Sir Thomas Brisbane Planetarium, 152 Mt Coot-tha Road, Mt Coot-tha
SUMMARY:First 5 Forever children’s storytime at The Planetarium
CATEGORIES:Library event
SEQUENCE:0
STATUS:CONFIRMED
DESCRIPTION:<p>Experience the magic of First 5 Forever children&#39;s storytime in the Planetarium. Listen to a story unfold while images float above on the Skydome. Ideal for children aged 2-5 years. <a> </a></p>
X-ALT-DESC;FMTTYPE=text/html:<p>Experience the magic of First 5 Forever children&#39;s storytime in the Planetarium. Listen to a story unfold while images float above on the Skydome. Ideal for children aged 2-5 years. <a> </a></p>
TRANSP:TRANSPARENT
END:VEVENT
END:VCALENDAR
