BEGIN:VCALENDAR
PRODID:-//Brisbane City Council//NONSGML Events//EN
VERSION:2.0
CALSCALE:GREGORIAN
X-WR-TIMEZONE:Australia/Brisbane
METHOD:PUBLISH
BEGIN:VEVENT
DTSTART:20260730T000000Z
DTEND:20260730T003000Z
DTSTAMP:20260421T063611Z
UID:198660162
LOCATION:Indooroopilly Library, Indooroopilly Shopping Centre, Level 4 (next to Event Cinemas), 322 Moggill Road, Indooroopilly
SUMMARY:First 5 Forever children's storytime
CATEGORIES:Library event
SEQUENCE:0
STATUS:CONFIRMED
DESCRIPTION:<p>Experience the magic of storytime with your child at the library. This interactive session includes stories, songs and mark making activities for young children. Ideal for children aged 2-5 years.</p><p><em>First 5 Forever is an initiative of the Queensland Government, coordinated by State Library of Queensland and delivered in partnership with local government.</em></p>
X-ALT-DESC;FMTTYPE=text/html:<p>Experience the magic of storytime with your child at the library. This interactive session includes stories, songs and mark making activities for young children. Ideal for children aged 2-5 years.</p><p><em>First 5 Forever is an initiative of the Queensland Government, coordinated by State Library of Queensland and delivered in partnership with local government.</em></p>
TRANSP:TRANSPARENT
END:VEVENT
END:VCALENDAR
