BEGIN:VCALENDAR
PRODID:-//Brisbane City Council//NONSGML Events//EN
VERSION:2.0
CALSCALE:GREGORIAN
X-WR-TIMEZONE:Australia/Brisbane
METHOD:PUBLISH
BEGIN:VEVENT
DTSTART:20260611T030000Z
DTEND:20260611T034500Z
DTSTAMP:20260421T040636Z
UID:195119266
LOCATION:Mt Ommaney Library, Mt Ommaney Shopping Centre, 171 Dandenong Road, Mt Ommaney
SUMMARY:First 5 Forever Jarjum stories
CATEGORIES:Library event
SEQUENCE:0
STATUS:CONFIRMED
DESCRIPTION:<p>Share in Aboriginal and Torres Strait Islander stories, songs, rhymes and interactive play activities. &nbsp;Ideal for children aged 5 years and younger. &nbsp;</p><em>First 5 Forever is an initiative of the Queensland Government, coordinated by State Library of Queensland and delivered in partnership with local government.</em>
X-ALT-DESC;FMTTYPE=text/html:<p>Share in Aboriginal and Torres Strait Islander stories, songs, rhymes and interactive play activities. &nbsp;Ideal for children aged 5 years and younger. &nbsp;</p><em>First 5 Forever is an initiative of the Queensland Government, coordinated by State Library of Queensland and delivered in partnership with local government.</em>
TRANSP:TRANSPARENT
END:VEVENT
END:VCALENDAR
