BEGIN:VCALENDAR
PRODID:-//Brisbane City Council//NONSGML Events//EN
VERSION:2.0
CALSCALE:GREGORIAN
X-WR-TIMEZONE:Australia/Brisbane
METHOD:PUBLISH
BEGIN:VEVENT
DTSTART:20260604T003000Z
DTEND:20260604T010000Z
DTSTAMP:20260423T040650Z
UID:201756228
LOCATION:Banyo Library, 284 St Vincents Road, Banyo
SUMMARY:First 5 Forever toddler time
CATEGORIES:Library event
SEQUENCE:0
STATUS:CONFIRMED
DESCRIPTION:<p>Meet other parents and toddlers for a fun session of singing, clapping and dancing. Learn action rhymes and songs which will help your child&rsquo;s pre-literacy, communication, language and social skills. Ideal for babies and toddlers aged 1-2 years.<p>First 5 Forever is an initiative of the Queensland Government, coordinated by State Library of Queensland and delivered in partnership with local government.&nbsp;
X-ALT-DESC;FMTTYPE=text/html:<p>Meet other parents and toddlers for a fun session of singing, clapping and dancing. Learn action rhymes and songs which will help your child&rsquo;s pre-literacy, communication, language and social skills. Ideal for babies and toddlers aged 1-2 years.<p>First 5 Forever is an initiative of the Queensland Government, coordinated by State Library of Queensland and delivered in partnership with local government.<br/>&nbsp;
TRANSP:TRANSPARENT
END:VEVENT
END:VCALENDAR
