BEGIN:VCALENDAR
PRODID:-//Brisbane City Council//NONSGML Events//EN
VERSION:2.0
CALSCALE:GREGORIAN
X-WR-TIMEZONE:Australia/Brisbane
METHOD:PUBLISH
BEGIN:VEVENT
DTSTART:20260503T083000Z
DTEND:20260503T093000Z
DTSTAMP:20260420T041139Z
UID:201128491
LOCATION:
SUMMARY:FLOW
CATEGORIES:Music
SEQUENCE:0
STATUS:CONFIRMED
DESCRIPTION:<p>Stirring strings in custom-lit, award-winning architecture.</p><p>For one night only, FLOW will transform the iconic Riverside Centre into a striking canvas for music, colour and light.</p><p>Angel Strings move seamlessly between classical string quartet repertoire and contemporary favourites, featuring music by Ravel, Caccini and Piazzolla beside reimaginings of INXS, Chappell Roan and the Electric Light Orchestra.</p><p>As the music unfolds, live lighting artist Daniel Endicott brings the arresting architecture to life with colour and movement, igniting the atmosphere and drawing audiences in.</p><p>Known for transforming unique spaces into live music settings, Angel Strings have sold out planetariums and festivals across Australia, including Brisbane, Melbourne, Adelaide and Bendigo. FLOW brings that atmosphere and originality to the Riverside Centre.</p><p>A world premiere event, FLOW offers a rare opportunity to experience Angel Strings in one of Brisbane&rsquo;s most iconic settings. For devoted music lovers, curious newcomers, and lovers of Bridgerton!</p><p>Presented by Angel Strings and Anywhere Festival.</p>
X-ALT-DESC;FMTTYPE=text/html:<p>Stirring strings in custom-lit, award-winning architecture.</p><p>For one night only, FLOW will transform the iconic Riverside Centre into a striking canvas for music, colour and light.</p><p>Angel Strings move seamlessly between classical string quartet repertoire and contemporary favourites, featuring music by Ravel, Caccini and Piazzolla beside reimaginings of INXS, Chappell Roan and the Electric Light Orchestra.</p><p>As the music unfolds, live lighting artist Daniel Endicott brings the arresting architecture to life with colour and movement, igniting the atmosphere and drawing audiences in.</p><p>Known for transforming unique spaces into live music settings, Angel Strings have sold out planetariums and festivals across Australia, including Brisbane, Melbourne, Adelaide and Bendigo. FLOW brings that atmosphere and originality to the Riverside Centre.</p><p>A world premiere event, FLOW offers a rare opportunity to experience Angel Strings in one of Brisbane&rsquo;s most iconic settings. For devoted music lovers, curious newcomers, and lovers of Bridgerton!</p><p>Presented by Angel Strings and Anywhere Festival.</p>
TRANSP:TRANSPARENT
END:VEVENT
END:VCALENDAR
