BEGIN:VCALENDAR
PRODID:-//Brisbane City Council//NONSGML Events//EN
VERSION:2.0
CALSCALE:GREGORIAN
X-WR-TIMEZONE:Australia/Brisbane
METHOD:PUBLISH
BEGIN:VEVENT
DTSTART:20260506T000000Z
DTEND:20260506T033000Z
DTSTAMP:20260421T083245Z
UID:201595849
LOCATION:Botanic Gardens Auditorium, Brisbane Botanic Gardens Mt Coot-tha, 152 Mt Coot-tha Road, Toowong
SUMMARY:Herbal teas and tisanes - A focus on Elderflower
CATEGORIES:Workshops
SEQUENCE:0
STATUS:CONFIRMED
DESCRIPTION:<p>Immerse yourself in the aromatic world of herbs and spices used for making botanical tisanes and infusions. With a focus on elderflower you can grow at home as the core botanical, explore the range of delicious beverages you can create.</p><p>Learn about the growth cycle and history of elderflower; together with the fundamentals of and differences between a tea, tisane, tonic and infusion. Enjoy sampling a variety of delicious botanical infusions, and discover how easy it is to make your own multi-ingredient tisane to take home.</p><p>Due to the length of this workshop, please bring a snack for yourself.</p><p>This workshop supports the Botanic Gardens&#39; commitment to creating a plant loving community dedicated to putting the plant back into planet.</p><p><strong>Note</strong>: This workshop is available only to participants 16 years of age or over.</p><p>For more information, <a href="mailto:BotGardensWorkshops@brisbane.qld.gov.au" target="_blank">send an email</a>.</p>
X-ALT-DESC;FMTTYPE=text/html:<p>Immerse yourself in the aromatic world of herbs and spices used for making botanical tisanes and infusions. With a focus on elderflower you can grow at home as the core botanical, explore the range of delicious beverages you can create.</p><p>Learn about the growth cycle and history of elderflower; together with the fundamentals of and differences between a tea, tisane, tonic and infusion. Enjoy sampling a variety of delicious botanical infusions, and discover how easy it is to make your own multi-ingredient tisane to take home.</p><p>Due to the length of this workshop, please bring a snack for yourself.</p><p>This workshop supports the Botanic Gardens&#39; commitment to creating a plant loving community dedicated to putting the plant back into planet.</p><p><strong>Note</strong>: This workshop is available only to participants 16 years of age or over.</p><p>For more information, <a href="mailto:BotGardensWorkshops@brisbane.qld.gov.au" target="_blank">send an email</a>.</p>
TRANSP:TRANSPARENT
END:VEVENT
END:VCALENDAR
