BEGIN:VCALENDAR
PRODID:-//Brisbane City Council//NONSGML Events//EN
VERSION:2.0
CALSCALE:GREGORIAN
X-WR-TIMEZONE:Australia/Brisbane
METHOD:PUBLISH
BEGIN:VEVENT
DTSTART:20260429T233000Z
DTEND:20260430T003000Z
DTSTAMP:20260423T054442Z
UID:201503384
LOCATION:Toowong Community Meeting Place, 14 Josling Street, Toowong
SUMMARY:Latin dance
CATEGORIES:Fitness & well-being
SEQUENCE:0
STATUS:CONFIRMED
DESCRIPTION:<p>Come and Join us for a weekly dancing class for beginners organised by The Workshed Inner West Inc.&nbsp;Every Thursday from 9.30-10.30am.</p><p>For more information, visit their&nbsp;<a href="https://theworkshed.org.au/" target="_blank">website</a>&nbsp;or <a href="https://www.facebook.com/TheWorkshed.InnerWest/" target="_blank">Facebook page</a>.</p>
X-ALT-DESC;FMTTYPE=text/html:<p>Come and Join us for a weekly dancing class for beginners organised by The Workshed Inner West Inc.&nbsp;Every Thursday from 9.30-10.30am.</p><p>For more information, visit their&nbsp;<a href="https://theworkshed.org.au/" target="_blank">website</a>&nbsp;or <a href="https://www.facebook.com/TheWorkshed.InnerWest/" target="_blank">Facebook page</a>.</p>
TRANSP:TRANSPARENT
END:VEVENT
END:VCALENDAR
