BEGIN:VCALENDAR
PRODID:-//Brisbane City Council//NONSGML Events//EN
VERSION:2.0
CALSCALE:GREGORIAN
X-WR-TIMEZONE:Australia/Brisbane
METHOD:PUBLISH
BEGIN:VEVENT
DTSTART:20260508T070000Z
DTEND:20260508T090000Z
DTSTAMP:20260420T041139Z
UID:201103109
LOCATION:Brunswick Street Mall, Brunswick Street, Fortitude Valley
SUMMARY:Line Dancing at Chattahoochee Honky Tonk Joe's
CATEGORIES:Music
SEQUENCE:0
STATUS:CONFIRMED
DESCRIPTION:<p>Join a line dancing session led by Chelsea featuring easy‑to‑follow steps set to country and contemporary music. Suitable for a range of ages and experience levels. at <a href="https://chattahoocheejoes.com.au" target="_blank">Chattahoochee Honky Tonk Joe&#39;s</a>&nbsp;(next level stage) in Brunswick Street Mall.<p>Presented as part of the <a href="https://myvalley.com.au/brunswick-street-live" target="_blank">Brunswick Street Live</a> program and independently funded.&nbsp;
X-ALT-DESC;FMTTYPE=text/html:<p>Join a line dancing session led by Chelsea featuring easy‑to‑follow steps set to country and contemporary music. Suitable for a range of ages and experience levels. at <a href="https://chattahoocheejoes.com.au" target="_blank">Chattahoochee Honky Tonk Joe&#39;s</a>&nbsp;(next level stage) in Brunswick Street Mall.<p>Presented as part of the <a href="https://myvalley.com.au/brunswick-street-live" target="_blank">Brunswick Street Live</a> program and independently funded.&nbsp;
TRANSP:TRANSPARENT
END:VEVENT
END:VCALENDAR
