BEGIN:VCALENDAR
PRODID:-//Brisbane City Council//NONSGML Events//EN
VERSION:2.0
CALSCALE:GREGORIAN
X-WR-TIMEZONE:Australia/Brisbane
METHOD:PUBLISH
BEGIN:VEVENT
DTSTART:20260505T020000Z
DTEND:20260505T030000Z
DTSTAMP:20260420T013206Z
UID:193171333
LOCATION:Brisbane City Hall, 64 Adelaide Street, Brisbane City
SUMMARY:Lord Mayor's City Hall Concerts - Jackie Love with Que Sera
CATEGORIES:Music
SEQUENCE:0
STATUS:CONFIRMED
DESCRIPTION:<strong>Lord Mayor&rsquo;s City Hall Concerts</strong> presents <strong>Jackie Love with&nbsp;Que Sera.</strong><p>A Tribute to the icons and hits of the 20s, 30s, 40s, 50s and 60s.</p><p>Having sung for two Popes, the Queen, a King, a King to be, and concerts around the world, recording, television and stage star Jackie Love still calls Australia home.</p><p>Join Australia&rsquo;s queen of hearts, celebrating the great music icons and hits of the 20s, 30s, 40s, 50s and 60s. Remember the days of great melodies and meaningful lyrics? Who can resist joining in to sing along to the best of Vera Lyn, Edith Piaf, Doris Day and Patsy Cline - La Vie En Rose, Always, Crazy, You&rsquo;re My World and Sweet Georgia Brown.</p><p>Join Jackie for a joyful hour of stories and anecdotes of the stars and their songs.</p><p>This Lord Mayor&rsquo;s City Hall Concert is produced by Salubrious Productions.</p>
X-ALT-DESC;FMTTYPE=text/html:<strong>Lord Mayor&rsquo;s City Hall Concerts</strong> presents <strong>Jackie Love with&nbsp;Que Sera.</strong><p>A Tribute to the icons and hits of the 20s, 30s, 40s, 50s and 60s.</p><p>Having sung for two Popes, the Queen, a King, a King to be, and concerts around the world, recording, television and stage star Jackie Love still calls Australia home.</p><p>Join Australia&rsquo;s queen of hearts, celebrating the great music icons and hits of the 20s, 30s, 40s, 50s and 60s. Remember the days of great melodies and meaningful lyrics? Who can resist joining in to sing along to the best of Vera Lyn, Edith Piaf, Doris Day and Patsy Cline - La Vie En Rose, Always, Crazy, You&rsquo;re My World and Sweet Georgia Brown.</p><p>Join Jackie for a joyful hour of stories and anecdotes of the stars and their songs.</p><p>This Lord Mayor&rsquo;s City Hall Concert is produced by Salubrious Productions.</p>
TRANSP:TRANSPARENT
END:VEVENT
END:VCALENDAR
