BEGIN:VCALENDAR
PRODID:-//Brisbane City Council//NONSGML Events//EN
VERSION:2.0
CALSCALE:GREGORIAN
X-WR-TIMEZONE:Australia/Brisbane
METHOD:PUBLISH
BEGIN:VEVENT
DTSTART:20261110T230000Z
DTEND:20261111T050000Z
DTSTAMP:20260421T063226Z
UID:201577336
LOCATION:Suburban Business Hub, 16 Aspinall Street, Nundah
SUMMARY:Mentoring for Growth - Nundah
CATEGORIES:Business
SEQUENCE:0
STATUS:CONFIRMED
DESCRIPTION:<p>Need some help in taking the next step in your business?</p><p>The Queensland Government&rsquo;s Mentoring for Growth program will be at the Nundah Small Business Hub to deliver free, face-to-face Mentoring for Growth (M4G) sessions for local businesses. Whether your business is well-established or just starting out, this program can help with your business opportunity or challenge to growth.</p><p>Register now for a confidential mentoring session where you will be matched with volunteer business experts who can give you information, tips and resources to help you get your business to where you want it to be.</p><p>Experienced M4G mentors can help you with anything related to your business.</p><p>Should you have any questions, reach out via&nbsp;<a href="mailto:m4g@desbt.qld.gov.au" target="_blank">email</a>.</p>
X-ALT-DESC;FMTTYPE=text/html:<p>Need some help in taking the next step in your business?</p><p>The Queensland Government&rsquo;s Mentoring for Growth program will be at the Nundah Small Business Hub to deliver free, face-to-face Mentoring for Growth (M4G) sessions for local businesses. Whether your business is well-established or just starting out, this program can help with your business opportunity or challenge to growth.</p><p>Register now for a confidential mentoring session where you will be matched with volunteer business experts who can give you information, tips and resources to help you get your business to where you want it to be.</p><p>Experienced M4G mentors can help you with anything related to your business.</p><p>Should you have any questions, reach out via&nbsp;<a href="mailto:m4g@desbt.qld.gov.au" target="_blank">email</a>.</p>
TRANSP:TRANSPARENT
END:VEVENT
END:VCALENDAR
