BEGIN:VCALENDAR
PRODID:-//Brisbane City Council//NONSGML Events//EN
VERSION:2.0
CALSCALE:GREGORIAN
X-WR-TIMEZONE:Australia/Brisbane
METHOD:PUBLISH
BEGIN:VEVENT
DTSTART:20260728T060000Z
DTEND:20260728T070000Z
DTSTAMP:20260423T030020Z
UID:198142776
LOCATION:Zillmere Library, Corner Jennings Street and Zillmere Road, Zillmere
SUMMARY:Murder and crime book club
CATEGORIES:Library event
SEQUENCE:0
STATUS:CONFIRMED
DESCRIPTION:<p>Interested in reading crime and mystery novels? Join us on the last Tuesday of each month for our Murder and crime book club. New members welcome.</p>
X-ALT-DESC;FMTTYPE=text/html:<p>Interested in reading crime and mystery novels? Join us on the last Tuesday of each month for our Murder and crime book club. New members welcome.</p>
TRANSP:TRANSPARENT
END:VEVENT
END:VCALENDAR
