BEGIN:VCALENDAR
PRODID:-//Brisbane City Council//NONSGML Events//EN
VERSION:2.0
CALSCALE:GREGORIAN
X-WR-TIMEZONE:Australia/Brisbane
METHOD:PUBLISH
BEGIN:VEVENT
DTSTART:20260610T080000Z
DTEND:20260610T100000Z
DTSTAMP:20260421T083424Z
UID:195119173
LOCATION:Mt Ommaney Library, Mt Ommaney Shopping Centre, 171 Dandenong Road, Mt Ommaney
SUMMARY:Night writers writing group
CATEGORIES:Library event
SEQUENCE:0
STATUS:CONFIRMED
DESCRIPTION:<p>We welcome all writers who would like feedback on their work in a friendly and casual atmosphere.&nbsp;</p>
X-ALT-DESC;FMTTYPE=text/html:<p>We welcome all writers who would like feedback on their work in a friendly and casual atmosphere.&nbsp;</p>
TRANSP:TRANSPARENT
END:VEVENT
END:VCALENDAR
