BEGIN:VCALENDAR
PRODID:-//Brisbane City Council//NONSGML Events//EN
VERSION:2.0
CALSCALE:GREGORIAN
X-WR-TIMEZONE:Australia/Brisbane
METHOD:PUBLISH
BEGIN:VEVENT
DTSTART:20260616T030000Z
DTEND:20260616T043000Z
DTSTAMP:20260423T025959Z
UID:201752971
LOCATION:Zillmere Library, Corner Jennings Street and Zillmere Road, Zillmere
SUMMARY:One-on-one tech help
CATEGORIES:Library event
SEQUENCE:0
STATUS:CONFIRMED
DESCRIPTION:Contact Zillmere Library to enquire about one-on-one tech assistance to troubleshoot technical issues, develop digital skills and improve online confidence.A Brisbane Libraries Tech Connect workshop.
X-ALT-DESC;FMTTYPE=text/html:Contact Zillmere Library to enquire about one-on-one tech assistance to troubleshoot technical issues, develop digital skills and improve online confidence.<br/><br/>A Brisbane Libraries Tech Connect workshop.
TRANSP:TRANSPARENT
END:VEVENT
END:VCALENDAR
