BEGIN:VCALENDAR
PRODID:-//Brisbane City Council//NONSGML Events//EN
VERSION:2.0
CALSCALE:GREGORIAN
X-WR-TIMEZONE:Australia/Brisbane
METHOD:PUBLISH
BEGIN:VEVENT
DTSTART:20260618T040000Z
DTEND:20260618T053000Z
DTSTAMP:20260423T040651Z
UID:201756248
LOCATION:Banyo Library, 284 St Vincents Road, Banyo
SUMMARY:One-on-one tech help
CATEGORIES:Library event
SEQUENCE:0
STATUS:CONFIRMED
DESCRIPTION:<p>One-on-one tech assistance to troubleshoot technical issues, develop digital skills and improve online confidence.</p><p>A Brisbane Libraries Tech Connect workshop.</p>
X-ALT-DESC;FMTTYPE=text/html:<p>One-on-one tech assistance to troubleshoot technical issues, develop digital skills and improve online confidence.</p><p>A Brisbane Libraries Tech Connect workshop.</p>
TRANSP:TRANSPARENT
END:VEVENT
END:VCALENDAR
