BEGIN:VCALENDAR
PRODID:-//Brisbane City Council//NONSGML Events//EN
VERSION:2.0
CALSCALE:GREGORIAN
X-WR-TIMEZONE:Australia/Brisbane
METHOD:PUBLISH
BEGIN:VEVENT
DTSTART:20260718T003000Z
DTEND:20260718T020000Z
DTSTAMP:20260423T0407Z
UID:198142727
LOCATION:Wynnum Library, 145 Florence Street, Wynnum
SUMMARY:Poets on Saturday
CATEGORIES:Library event
SEQUENCE:0
STATUS:CONFIRMED
DESCRIPTION:Are you a budding poet, seasoned peddler of prose or an appreciator of the spoken word? Enjoy a morning of poetry. Sign up for open microphone to perform your original works.
X-ALT-DESC;FMTTYPE=text/html:Are you a budding poet, seasoned peddler of prose or an appreciator of the spoken word? Enjoy a morning of poetry. Sign up for open microphone to perform your original works.
TRANSP:TRANSPARENT
END:VEVENT
END:VCALENDAR
