BEGIN:VCALENDAR
PRODID:-//Brisbane City Council//NONSGML Events//EN
VERSION:2.0
CALSCALE:GREGORIAN
X-WR-TIMEZONE:Australia/Brisbane
METHOD:PUBLISH
BEGIN:VEVENT
DTSTART:20260609T230000Z
DTEND:20260610T020000Z
DTSTAMP:20260421T073114Z
UID:201264758
LOCATION:Wynnum Library, 145 Florence Street, Wynnum
SUMMARY:Professional headshots for local businesses
CATEGORIES:Business
SEQUENCE:0
STATUS:CONFIRMED
DESCRIPTION:<p>Council is offering Brisbane-based businesses the opportunity to boost their brand image with free professional headshots.</p><p>Visit the Wynnum Library meeting room for your headshot on Wednesday 10 June at your choice of time:</p><ul>	<li>Timeslot 1:&nbsp;9&ndash;9.30am</li>	<li>Timeslot 2:&nbsp;9.40&ndash;10.10am</li>	<li>Timeslot 3:&nbsp;10.20&ndash;10.50am</li>	<li>Timeslot 4:&nbsp;11&ndash;11.30am.</li></ul><p>Elevate your brand with free professional headshots!</p><p>High-quality headshots evoke professionalism and help put a face to the name of your business. They build trust and demonstrate approachability, helping you attract potential customers.</p><p>Brisbane City Council, with&nbsp;LP Commercial Photography &amp; Videography, is providing free headshots to support local businesses to grow and thrive.</p>
X-ALT-DESC;FMTTYPE=text/html:<p>Council is offering Brisbane-based businesses the opportunity to boost their brand image with free professional headshots.</p><p>Visit the Wynnum Library meeting room for your headshot on Wednesday 10 June at your choice of time:</p><ul>	<li>Timeslot 1:&nbsp;9&ndash;9.30am</li>	<li>Timeslot 2:&nbsp;9.40&ndash;10.10am</li>	<li>Timeslot 3:&nbsp;10.20&ndash;10.50am</li>	<li>Timeslot 4:&nbsp;11&ndash;11.30am.</li></ul><p>Elevate your brand with free professional headshots!</p><p>High-quality headshots evoke professionalism and help put a face to the name of your business. They build trust and demonstrate approachability, helping you attract potential customers.</p><p>Brisbane City Council, with&nbsp;LP Commercial Photography &amp; Videography, is providing free headshots to support local businesses to grow and thrive.</p>
TRANSP:TRANSPARENT
END:VEVENT
END:VCALENDAR
