BEGIN:VCALENDAR
PRODID:-//Brisbane City Council//NONSGML Events//EN
VERSION:2.0
CALSCALE:GREGORIAN
X-WR-TIMEZONE:Australia/Brisbane
METHOD:PUBLISH
BEGIN:VEVENT
DTSTART:20260521T080000Z
DTEND:20260521T094500Z
DTSTAMP:20260422T025941Z
UID:198147007
LOCATION:New Farm Library, 135 Sydney Street, New Farm
SUMMARY:Queer film screening: Studio 54: The Documentary (M)
CATEGORIES:Library event
SEQUENCE:0
STATUS:CONFIRMED
DESCRIPTION:A documentary that traces the rise and fall of New York&#39;s legendary nightclub and its glamorous, chaotic scene through the 1970s.&nbsp;Studio 54&nbsp;shows how fame, excess, and legal trouble led to its downfall. (2018) (99 mins).
X-ALT-DESC;FMTTYPE=text/html:A documentary that traces the rise and fall of New York&#39;s legendary nightclub and its glamorous, chaotic scene through the 1970s.&nbsp;Studio 54&nbsp;shows how fame, excess, and legal trouble led to its downfall. (2018) (99 mins).
TRANSP:TRANSPARENT
END:VEVENT
END:VCALENDAR
