BEGIN:VCALENDAR
PRODID:-//Brisbane City Council//NONSGML Events//EN
VERSION:2.0
CALSCALE:GREGORIAN
X-WR-TIMEZONE:Australia/Brisbane
METHOD:PUBLISH
BEGIN:VEVENT
DTSTART:20261128T220000Z
DTEND:20261129T050000Z
DTSTAMP:20260420T041121Z
UID:201182733
LOCATION:City Botanic Gardens, 147 Alice Street, Brisbane City
SUMMARY:Riverside at the Gardens
CATEGORIES:Markets
SEQUENCE:0
STATUS:CONFIRMED
DESCRIPTION:<p>Come and and enjoy the Riverside Markets every Sunday.<p>For arts &amp; crafts, unique clothing, and extraordinary products and services a visit to the iconic Riverside Markets at the Botanic Gardens is a must!<p>Visit the <a href="http://queenslandmarkets.com.au/riverside-markets/" target="_blank">Queensland Market website</a> for more information.&nbsp;
X-ALT-DESC;FMTTYPE=text/html:<p>Come and and enjoy the Riverside Markets every Sunday.<p>For arts &amp; crafts, unique clothing, and extraordinary products and services a visit to the iconic Riverside Markets at the Botanic Gardens is a must!<p>Visit the <a href="http://queenslandmarkets.com.au/riverside-markets/" target="_blank">Queensland Market website</a> for more information.&nbsp;
TRANSP:TRANSPARENT
END:VEVENT
END:VCALENDAR
