BEGIN:VCALENDAR
PRODID:-//Brisbane City Council//NONSGML Events//EN
VERSION:2.0
CALSCALE:GREGORIAN
X-WR-TIMEZONE:Australia/Brisbane
METHOD:PUBLISH
BEGIN:VEVENT
DTSTART:20260606T010000Z
DTEND:20260606T020000Z
DTSTAMP:20260421T083438Z
UID:195123882
LOCATION:Indooroopilly Library, Indooroopilly Shopping Centre, Level 4 (next to Event Cinemas), 322 Moggill Road, Indooroopilly
SUMMARY:Romance readers book club
CATEGORIES:Library event
SEQUENCE:0
STATUS:CONFIRMED
DESCRIPTION:Join our book club for readers of romance, swoon and happily ever after. Bring the book you’re currently reading and find new favourites.
X-ALT-DESC;FMTTYPE=text/html:Join our book club for readers of romance, swoon and happily ever after. Bring the book you’re currently reading and find new favourites.
TRANSP:TRANSPARENT
END:VEVENT
END:VCALENDAR
