BEGIN:VCALENDAR
PRODID:-//Brisbane City Council//NONSGML Events//EN
VERSION:2.0
CALSCALE:GREGORIAN
X-WR-TIMEZONE:Australia/Brisbane
METHOD:PUBLISH
BEGIN:VEVENT
DTSTART:20260423T060000Z
DTEND:20260423T093000Z
DTSTAMP:20260421T073316Z
UID:201599017
LOCATION:Visible Ink, 5 Green Square Close, Fortitude Valley
SUMMARY:Ruckus presents: Intro to poetry slam (workshop) and open mic poetry slam
CATEGORIES:Creative
SEQUENCE:0
STATUS:CONFIRMED
DESCRIPTION:<p>Ever wondered how you turn an idea into a story? Or a story into a poem? This workshop is about turning ideas into something bigger and looking at writing tricks and techniques to help you build your poetry as well as getting you ready to take those poems to the stage!</p><p>Slam: A slam is an open mic competition where anyone can take the stage to share a poem, rap, song lyrics, shopping list (if its original work we will allow it) and the crowd judges the acts to find the ultimate winner!</p><p>You get 2 mins 30 on the mic to show us what you&rsquo;re made of.</p><p>Don&rsquo;t want to perform? We need judges &amp; audience to make this work.</p><p>Come and see who gets crowned winner of the inaugural Youth Week Poetry Slam!</p>
X-ALT-DESC;FMTTYPE=text/html:<p>Ever wondered how you turn an idea into a story? Or a story into a poem? This workshop is about turning ideas into something bigger and looking at writing tricks and techniques to help you build your poetry as well as getting you ready to take those poems to the stage!</p><p>Slam: A slam is an open mic competition where anyone can take the stage to share a poem, rap, song lyrics, shopping list (if its original work we will allow it) and the crowd judges the acts to find the ultimate winner!</p><p>You get 2 mins 30 on the mic to show us what you&rsquo;re made of.</p><p>Don&rsquo;t want to perform? We need judges &amp; audience to make this work.</p><p>Come and see who gets crowned winner of the inaugural Youth Week Poetry Slam!</p>
TRANSP:TRANSPARENT
END:VEVENT
END:VCALENDAR
