BEGIN:VCALENDAR
PRODID:-//Brisbane City Council//NONSGML Events//EN
VERSION:2.0
CALSCALE:GREGORIAN
X-WR-TIMEZONE:Australia/Brisbane
METHOD:PUBLISH
BEGIN:VEVENT
DTSTART:20260704T003000Z
DTEND:20260704T013000Z
DTSTAMP:20260423T040659Z
UID:198142723
LOCATION:Wynnum Library, 145 Florence Street, Wynnum
SUMMARY:Saturday book lovers
CATEGORIES:Library event
SEQUENCE:0
STATUS:CONFIRMED
DESCRIPTION:Join a group of avid readers to share your most recent reads. No set titles to read, just come along to find a good book.
X-ALT-DESC;FMTTYPE=text/html:Join a group of avid readers to share your most recent reads. No set titles to read, just come along to find a good book.
TRANSP:TRANSPARENT
END:VEVENT
END:VCALENDAR
