BEGIN:VCALENDAR
PRODID:-//Brisbane City Council//NONSGML Events//EN
VERSION:2.0
CALSCALE:GREGORIAN
X-WR-TIMEZONE:Australia/Brisbane
METHOD:PUBLISH
BEGIN:VEVENT
DTSTART:20260709T023000Z
DTEND:20260709T043000Z
DTSTAMP:20260421T063610Z
UID:198660153
LOCATION:Indooroopilly Library, Indooroopilly Shopping Centre, Level 4 (next to Event Cinemas), 322 Moggill Road, Indooroopilly
SUMMARY:Second Thursday book club
CATEGORIES:Library event
SEQUENCE:0
STATUS:CONFIRMED
DESCRIPTION:Read, discuss and debate a fine selection of books with a friendly group. New members welcome.
X-ALT-DESC;FMTTYPE=text/html:Read, discuss and debate a fine selection of books with a friendly group. New members welcome.
TRANSP:TRANSPARENT
END:VEVENT
END:VCALENDAR
