BEGIN:VCALENDAR
PRODID:-//Brisbane City Council//NONSGML Events//EN
VERSION:2.0
CALSCALE:GREGORIAN
X-WR-TIMEZONE:Australia/Brisbane
METHOD:PUBLISH
BEGIN:VEVENT
DTSTART:20260509T233000Z
DTEND:20260510T010000Z
DTSTAMP:20260420T041139Z
UID:201267969
LOCATION:Brisbane City Hall, 64 Adelaide Street, Brisbane City
SUMMARY:Shingle Inn Mothers Day event
CATEGORIES:Family events
SEQUENCE:0
STATUS:CONFIRMED
DESCRIPTION:<p>We are celebrating Mother&#39;s Day!</p><p>Spoil your mum with a delightful high tea experience in the stunning surrounds of our iconic Shingle Inn City Hall cafe!</p><p>With an exclusive high tea menu that&nbsp;includes a selection of specialty items featuring:</p><ul>	<li>mini frittata</li>	<li>sausage rolls</li>	<li>ribbon sandwiches</li>	<li>petite cakes</li>	<li>sweet treats</li>	<li>Shingle Inn&#39;s famous scones, served with thick dollop cream and preserve.</li></ul><p>Prices:</p><ul>	<li>Adults: $85</li>	<li>Tweens: $38</li>	<li>Children: $28</li></ul><p>*Gluten free pricing is available.</p><p>Includes a glass of sparkling wine for the adults and unlimited tea or coffee, or upgrade to Pol Roger for $15.</p><p>Celebrate the wonderful mothers in our lives by making memories and special traditions with the people who mean the most.</p>
X-ALT-DESC;FMTTYPE=text/html:<p>We are celebrating Mother&#39;s Day!</p><p>Spoil your mum with a delightful high tea experience in the stunning surrounds of our iconic Shingle Inn City Hall cafe!</p><p>With an exclusive high tea menu that&nbsp;includes a selection of specialty items featuring:</p><ul>	<li>mini frittata</li>	<li>sausage rolls</li>	<li>ribbon sandwiches</li>	<li>petite cakes</li>	<li>sweet treats</li>	<li>Shingle Inn&#39;s famous scones, served with thick dollop cream and preserve.</li></ul><p>Prices:</p><ul>	<li>Adults: $85</li>	<li>Tweens: $38</li>	<li>Children: $28</li></ul><p>*Gluten free pricing is available.</p><p>Includes a glass of sparkling wine for the adults and unlimited tea or coffee, or upgrade to Pol Roger for $15.</p><p>Celebrate the wonderful mothers in our lives by making memories and special traditions with the people who mean the most.</p>
TRANSP:TRANSPARENT
END:VEVENT
END:VCALENDAR
