BEGIN:VCALENDAR
PRODID:-//Brisbane City Council//NONSGML Events//EN
VERSION:2.0
CALSCALE:GREGORIAN
X-WR-TIMEZONE:Australia/Brisbane
METHOD:PUBLISH
BEGIN:VEVENT
DTSTART:20260626T000000Z
DTEND:20260626T020000Z
DTSTAMP:20260421T093057Z
UID:194916382
LOCATION:Indooroopilly Library, Indooroopilly Shopping Centre, Level 4 (next to Event Cinemas), 322 Moggill Road, Indooroopilly
SUMMARY:Sociable seniors book club
CATEGORIES:Library event
SEQUENCE:0
STATUS:CONFIRMED
DESCRIPTION:Read, discuss and debate a fine selection of books with a friendly group. New members welcome.
X-ALT-DESC;FMTTYPE=text/html:Read, discuss and debate a fine selection of books with a friendly group. New members welcome.
TRANSP:TRANSPARENT
END:VEVENT
END:VCALENDAR
