BEGIN:VCALENDAR
PRODID:-//Brisbane City Council//NONSGML Events//EN
VERSION:2.0
CALSCALE:GREGORIAN
X-WR-TIMEZONE:Australia/Brisbane
METHOD:PUBLISH
BEGIN:VEVENT
DTSTART:20260628T010000Z
DTEND:20260628T020000Z
DTSTAMP:20260421T093057Z
UID:198819688
LOCATION:Indooroopilly Library, Indooroopilly Shopping Centre, Level 4 (next to Event Cinemas), 322 Moggill Road, Indooroopilly
SUMMARY:STEAM Sundays
CATEGORIES:Library event
SEQUENCE:0
STATUS:CONFIRMED
DESCRIPTION:<p>Explore science, technology, reading and art during this hands-on, drop in session. Each week, challenge your thinking and bring out your creative side with new technology in a fun environment. Ideal for all ages.&nbsp;</p>
X-ALT-DESC;FMTTYPE=text/html:<p>Explore science, technology, reading and art during this hands-on, drop in session. Each week, challenge your thinking and bring out your creative side with new technology in a fun environment. Ideal for all ages.&nbsp;</p>
TRANSP:TRANSPARENT
END:VEVENT
END:VCALENDAR
